BEGIN:VCALENDAR
VERSION:2.0
PRODID:-//Rev. Cynthia Johnson-Oliver - ECPv6.15.10//NONSGML v1.0//EN
CALSCALE:GREGORIAN
METHOD:PUBLISH
X-ORIGINAL-URL:https://cynthiajohnsonoliver.com
X-WR-CALDESC:Events for Rev. Cynthia Johnson-Oliver
REFRESH-INTERVAL;VALUE=DURATION:PT1H
X-Robots-Tag:noindex
X-PUBLISHED-TTL:PT1H
BEGIN:VTIMEZONE
TZID:UTC
BEGIN:STANDARD
TZOFFSETFROM:+0000
TZOFFSETTO:+0000
TZNAME:UTC
DTSTART:20180101T000000
END:STANDARD
END:VTIMEZONE
BEGIN:VEVENT
DTSTART;TZID=UTC:20191107T170000
DTEND;TZID=UTC:20191107T183000
DTSTAMP:20260425T122942
CREATED:20191028T165509Z
LAST-MODIFIED:20191028T165509Z
UID:1151-1573146000-1573151400@cynthiajohnsonoliver.com
SUMMARY:Women in Ministry - Panel Discussion
DESCRIPTION:Rev. Cynthia Johnson-Oliver will be discussing her role as a nonprofit founder and president at a panel discussion on women in ministry at Wesley Theological Seminary. \nShare this:TweetMoreEmailPrintShare on TumblrPocketReddit
URL:https://cynthiajohnsonoliver.com/event/women-in-ministry-panel-discussion/
LOCATION:Wesley Theological Seminary\, Washington\, DC
CATEGORIES:Faith and Justice,Preaching and Worship
ATTACH;FMTTYPE=image/jpeg:https://cynthiajohnsonoliver.com/wp-content/uploads/2019/10/DSC_0081.NEF_.jpg
END:VEVENT
END:VCALENDAR