BEGIN:VCALENDAR
VERSION:2.0
PRODID:-//Rev. Cynthia Johnson-Oliver - ECPv6.15.10//NONSGML v1.0//EN
CALSCALE:GREGORIAN
METHOD:PUBLISH
X-WR-CALNAME:Rev. Cynthia Johnson-Oliver
X-ORIGINAL-URL:https://cynthiajohnsonoliver.com
X-WR-CALDESC:Events for Rev. Cynthia Johnson-Oliver
REFRESH-INTERVAL;VALUE=DURATION:PT1H
X-Robots-Tag:noindex
X-PUBLISHED-TTL:PT1H
BEGIN:VTIMEZONE
TZID:UTC
BEGIN:STANDARD
TZOFFSETFROM:+0000
TZOFFSETTO:+0000
TZNAME:UTC
DTSTART:20200101T000000
END:STANDARD
END:VTIMEZONE
BEGIN:VEVENT
DTSTART;TZID=UTC:20210221T150000
DTEND;TZID=UTC:20210221T163000
DTSTAMP:20260425T122407
CREATED:20210219T234829Z
LAST-MODIFIED:20210219T234915Z
UID:1360-1613919600-1613925000@cynthiajohnsonoliver.com
SUMMARY:Panelist: Why Were the Black Kids Sitting Together in the Cafeteria?
DESCRIPTION:Cynthia Johnson Oliver\, Harvard College ’96\, Harvard Divinity ’98 will be a panelist in this important reunion conversation on diversity and inclusion. \nShare this:TweetMoreEmailPrintShare on TumblrPocketReddit
URL:https://cynthiajohnsonoliver.com/event/panelist-why-were-the-black-kids-sitting-together-in-the-cafeteria/
CATEGORIES:Speaking
ATTACH;FMTTYPE=image/png:https://cynthiajohnsonoliver.com/wp-content/uploads/2021/02/Harvard96.png
END:VEVENT
END:VCALENDAR